BEGIN:VCALENDAR
VERSION:2.0
PRODID:-//Schlappseil - ECPv6.15.20//NONSGML v1.0//EN
CALSCALE:GREGORIAN
METHOD:PUBLISH
X-ORIGINAL-URL:https://web.schlappseil.de
X-WR-CALDESC:Veranstaltungen für Schlappseil
REFRESH-INTERVAL;VALUE=DURATION:PT1H
X-Robots-Tag:noindex
X-PUBLISHED-TTL:PT1H
BEGIN:VTIMEZONE
TZID:UTC
BEGIN:STANDARD
TZOFFSETFROM:+0000
TZOFFSETTO:+0000
TZNAME:UTC
DTSTART:20240101T000000
END:STANDARD
END:VTIMEZONE
BEGIN:VEVENT
DTSTART;TZID=UTC:20250817T140000
DTEND;TZID=UTC:20250817T153000
DTSTAMP:20260424T091854
CREATED:20250729T062229Z
LAST-MODIFIED:20250729T062746Z
UID:346-1755439200-1755444600@web.schlappseil.de
SUMMARY:Schlappseil beim Stadtfest Dresden
DESCRIPTION:Schlappseil mal vor ganz anderer Sandsteinkulisse. Wir bringen den Klang vom Elbsandstein bis auf den Schloßplatz.
URL:https://web.schlappseil.de/event/schlappseil-beim-stadtfest-dresden
LOCATION:Schlossplatz Dresden\, Schloßplatz\, Dresden\, 01067\, Germany
ATTACH;FMTTYPE=image/png:https://web.schlappseil.de/wp-content/uploads/2025/07/Canaletto.png
END:VEVENT
END:VCALENDAR