BEGIN:VCALENDAR
VERSION:2.0
PRODID:-//Schlappseil - ECPv6.15.20//NONSGML v1.0//EN
CALSCALE:GREGORIAN
METHOD:PUBLISH
X-WR-CALNAME:Schlappseil
X-ORIGINAL-URL:https://web.schlappseil.de
X-WR-CALDESC:Veranstaltungen für Schlappseil
REFRESH-INTERVAL;VALUE=DURATION:PT1H
X-Robots-Tag:noindex
X-PUBLISHED-TTL:PT1H
BEGIN:VTIMEZONE
TZID:UTC
BEGIN:STANDARD
TZOFFSETFROM:+0000
TZOFFSETTO:+0000
TZNAME:UTC
DTSTART:20240101T000000
END:STANDARD
END:VTIMEZONE
BEGIN:VEVENT
DTSTART;TZID=UTC:20260228T190000
DTEND;TZID=UTC:20260301T020000
DTSTAMP:20260423T200547
CREATED:20250326T094214Z
LAST-MODIFIED:20251212T232010Z
UID:328-1772305200-1772330400@web.schlappseil.de
SUMMARY:Bergsteigerfasching 2026
DESCRIPTION:
URL:https://web.schlappseil.de/event/bergsteigerfasching-2026
LOCATION:Parkhotel Dresden\, Bautzner Landstraße 7\, Dresden\, 01324\, Germany
ATTACH;FMTTYPE=image/png:https://web.schlappseil.de/wp-content/uploads/2025/12/Bergsteigerfasching_2026_1920x1080_Web.png
END:VEVENT
BEGIN:VEVENT
DTSTART;TZID=UTC:20250817T140000
DTEND;TZID=UTC:20250817T153000
DTSTAMP:20260423T200547
CREATED:20250729T062229Z
LAST-MODIFIED:20250729T062746Z
UID:346-1755439200-1755444600@web.schlappseil.de
SUMMARY:Schlappseil beim Stadtfest Dresden
DESCRIPTION:Schlappseil mal vor ganz anderer Sandsteinkulisse. Wir bringen den Klang vom Elbsandstein bis auf den Schloßplatz.
URL:https://web.schlappseil.de/event/schlappseil-beim-stadtfest-dresden
LOCATION:Schlossplatz Dresden\, Schloßplatz\, Dresden\, 01067\, Germany
ATTACH;FMTTYPE=image/png:https://web.schlappseil.de/wp-content/uploads/2025/07/Canaletto.png
END:VEVENT
BEGIN:VEVENT
DTSTART;TZID=UTC:20250705T200000
DTEND;TZID=UTC:20250705T220000
DTSTAMP:20260423T200547
CREATED:20250326T092013Z
LAST-MODIFIED:20250326T092712Z
UID:319-1751745600-1751752800@web.schlappseil.de
SUMMARY:Schlappseil bei The Grand Jam
DESCRIPTION:Am 5. Juli 2025 spielt The Grand Jam wieder im Rudolf-Harbit-Stadion in Dresden\, und wir sind dabei. Alle Infos gibts auf https://thegrandjam.live
URL:https://web.schlappseil.de/event/schlappseil-bei-the-grand-jam
LOCATION:Rudolf-Harbig-Stadion Dresden\, Lennéstraße 12\, Dresden\, 01069\, Germany
ATTACH;FMTTYPE=image/jpeg:https://web.schlappseil.de/wp-content/uploads/2025/03/thegrandjam2025.jpg
END:VEVENT
BEGIN:VEVENT
DTSTART;TZID=UTC:20250628T190000
DTEND;TZID=UTC:20250628T223000
DTSTAMP:20260423T200547
CREATED:20250310T114214Z
LAST-MODIFIED:20250310T131853Z
UID:301-1751137200-1751149800@web.schlappseil.de
SUMMARY:Filmnacht 2025
DESCRIPTION:Die Filmnacht in der Buschmühle\, mit Filmen übers Elbsandsteingebirge\, Klettern und die Welt. Schlappseil spielt von 19:00 bis Einsetzen der Dämmerung.
URL:https://web.schlappseil.de/event/filmnacht-2025
LOCATION:Die Buschmühle\, Kirnitzschtalstr. 1\, Sebnitz\, 01855\, Germany
ATTACH;FMTTYPE=image/jpeg:https://web.schlappseil.de/wp-content/uploads/2025/03/Schlappseil-Kitalfest23-e1741606895919.jpg
END:VEVENT
END:VCALENDAR